BEGIN:VCALENDAR
VERSION:2.0
PRODID:-//Emerald Sea Adventures - ECPv6.15.20//NONSGML v1.0//EN
CALSCALE:GREGORIAN
METHOD:PUBLISH
X-ORIGINAL-URL:https://emeraldseaadventures.ca
X-WR-CALDESC:Events for Emerald Sea Adventures
REFRESH-INTERVAL;VALUE=DURATION:PT1H
X-Robots-Tag:noindex
X-PUBLISHED-TTL:PT1H
BEGIN:VTIMEZONE
TZID:America/Denver
BEGIN:DAYLIGHT
TZOFFSETFROM:-0700
TZOFFSETTO:-0600
TZNAME:MDT
DTSTART:20220313T090000
END:DAYLIGHT
BEGIN:STANDARD
TZOFFSETFROM:-0600
TZOFFSETTO:-0700
TZNAME:MST
DTSTART:20221106T080000
END:STANDARD
BEGIN:DAYLIGHT
TZOFFSETFROM:-0700
TZOFFSETTO:-0600
TZNAME:MDT
DTSTART:20230312T090000
END:DAYLIGHT
BEGIN:STANDARD
TZOFFSETFROM:-0600
TZOFFSETTO:-0700
TZNAME:MST
DTSTART:20231105T080000
END:STANDARD
BEGIN:DAYLIGHT
TZOFFSETFROM:-0700
TZOFFSETTO:-0600
TZNAME:MDT
DTSTART:20240310T090000
END:DAYLIGHT
BEGIN:STANDARD
TZOFFSETFROM:-0600
TZOFFSETTO:-0700
TZNAME:MST
DTSTART:20241103T080000
END:STANDARD
END:VTIMEZONE
BEGIN:VEVENT
DTSTART;TZID=America/Denver:20231101T080000
DTEND;TZID=America/Denver:20231231T170000
DTSTAMP:20260424T094035
CREATED:20230524T192346Z
LAST-MODIFIED:20230524T192346Z
UID:10000010-1698825600-1704042000@emeraldseaadventures.ca
SUMMARY:Off season
DESCRIPTION:
URL:https://emeraldseaadventures.ca/event/off-season-3/
END:VEVENT
BEGIN:VEVENT
DTSTART;TZID=America/Denver:20230905T080000
DTEND;TZID=America/Denver:20230912T170000
DTSTAMP:20260424T094035
CREATED:20230524T192300Z
LAST-MODIFIED:20230524T192312Z
UID:10000009-1693900800-1694538000@emeraldseaadventures.ca
SUMMARY:Booked
DESCRIPTION:
URL:https://emeraldseaadventures.ca/event/booked-7/
END:VEVENT
BEGIN:VEVENT
DTSTART;TZID=America/Denver:20230626T080000
DTEND;TZID=America/Denver:20230630T170000
DTSTAMP:20260424T094035
CREATED:20230524T192210Z
LAST-MODIFIED:20230524T192210Z
UID:10000008-1687766400-1688144400@emeraldseaadventures.ca
SUMMARY:Booked
DESCRIPTION:
URL:https://emeraldseaadventures.ca/event/booked-6/
END:VEVENT
BEGIN:VEVENT
DTSTART;TZID=America/Denver:20230606T080000
DTEND;TZID=America/Denver:20230609T170000
DTSTAMP:20260424T094035
CREATED:20230524T192141Z
LAST-MODIFIED:20230524T192141Z
UID:10000007-1686038400-1686330000@emeraldseaadventures.ca
SUMMARY:Booked
DESCRIPTION:
URL:https://emeraldseaadventures.ca/event/booked-5/
END:VEVENT
BEGIN:VEVENT
DTSTART;TZID=America/Denver:20230527T080000
DTEND;TZID=America/Denver:20230528T170000
DTSTAMP:20260424T094035
CREATED:20230524T191724Z
LAST-MODIFIED:20230524T191801Z
UID:10000004-1685174400-1685293200@emeraldseaadventures.ca
SUMMARY:Booked
DESCRIPTION:
URL:https://emeraldseaadventures.ca/event/booked-2/
END:VEVENT
BEGIN:VEVENT
DTSTART;TZID=America/Denver:20230517T080000
DTEND;TZID=America/Denver:20230521T170000
DTSTAMP:20260424T094035
CREATED:20230524T192049Z
LAST-MODIFIED:20230524T192049Z
UID:10000006-1684310400-1684688400@emeraldseaadventures.ca
SUMMARY:Booked
DESCRIPTION:
URL:https://emeraldseaadventures.ca/event/booked-4/
END:VEVENT
BEGIN:VEVENT
DTSTART;TZID=America/Denver:20230504T080000
DTEND;TZID=America/Denver:20230507T170000
DTSTAMP:20260424T094035
CREATED:20230524T191951Z
LAST-MODIFIED:20230524T191951Z
UID:10000005-1683187200-1683478800@emeraldseaadventures.ca
SUMMARY:Booked
DESCRIPTION:
URL:https://emeraldseaadventures.ca/event/booked-3/
END:VEVENT
BEGIN:VEVENT
DTSTART;TZID=America/Denver:20230421T080000
DTEND;TZID=America/Denver:20230423T170000
DTSTAMP:20260424T094035
CREATED:20230524T191604Z
LAST-MODIFIED:20230524T191604Z
UID:10000003-1682064000-1682269200@emeraldseaadventures.ca
SUMMARY:Booked
DESCRIPTION:
URL:https://emeraldseaadventures.ca/event/booked/
END:VEVENT
BEGIN:VEVENT
DTSTART;TZID=America/Denver:20230201T080000
DTEND;TZID=America/Denver:20230420T170000
DTSTAMP:20260424T094035
CREATED:20230524T191356Z
LAST-MODIFIED:20230524T191356Z
UID:10000002-1675238400-1682010000@emeraldseaadventures.ca
SUMMARY:Off Season
DESCRIPTION:
URL:https://emeraldseaadventures.ca/event/off-season-2/
END:VEVENT
BEGIN:VEVENT
DTSTART;TZID=America/Denver:20230101T080000
DTEND;TZID=America/Denver:20230131T170000
DTSTAMP:20260424T094035
CREATED:20230524T191156Z
LAST-MODIFIED:20230524T191156Z
UID:10000001-1672560000-1675184400@emeraldseaadventures.ca
SUMMARY:Off season
DESCRIPTION:
URL:https://emeraldseaadventures.ca/event/off-season/
END:VEVENT
END:VCALENDAR